DatasetHeader Begin
	Version	= "7.1"
	Name	= "lisle_nwsun.ers"
	LastUpdated	= Tue Jul 21 00:38:21 GMT 2009
	DataFile	= "lisle_nwsun.ecw"
	DataSetType	= Translated
	DataType	= Raster
	ByteOrder	= LSBFirst
	CoordinateSpace Begin
		Datum	= "GDA94"
		Projection	= "MGA55"
		CoordinateType	= EN
		Rotation	= 0:0:0.0
	CoordinateSpace End
	RasterInfo Begin
		CellType	= Unsigned8BitInteger
		CellInfo Begin
			Xdimension	= 0.5
			Ydimension	= 0.5
		CellInfo End
		NrOfLines	= 42982
		NrOfCellsPerLine	= 30545
		RegistrationCoord Begin
			Eastings	= 524709.01313942997
			Northings	= 5444901.6940654004
		RegistrationCoord End
		NrOfBands	= 1
		BandId Begin
			Value	= "Grey"
		BandId End
		RegionInfo Begin
			Type	= Polygon
			RegionName	= "All"
			SubRegion	= { 0 0 0 42982 30545 42982 30545 0 }
		RegionInfo End
	RasterInfo End
DatasetHeader End
