DatasetHeader Begin
	DataSetType=ERStorage
	HeaderOffset=2048
	DataType=Raster
	ByteOrder=LSBFirst
	CoordinateSpace Begin
		Datum	= "AGD66"
		Projection	= "TMAMG55"
		CoordinateType	= EN
		Units	= "METERS"
		Rotation	= 0:0:0.0
	CoordinateSpace End
	RasterInfo Begin
		CellType	= IEEE4ByteReal
		NullCellValue	= 99999.000000
		CellInfo Begin
			Xdimension	= 20.000000
			Ydimension	= 20.000000
		CellInfo End
		NrOfLines	= 524
		NrOfCellsPerLine	= 512
		RegistrationCoord Begin
			Eastings	= 366920.000000
			Northings	= 5358380.000000
		RegistrationCoord End
		NrOfBands	= 1
		RegistrationCellX	= 0.0
		RegistrationCellY	= 0.0
	RasterInfo End
DatasetHeader End
