DatasetHeader Begin
    Version       = "7.1"
    Description  = "dtm"
    DataSetType  = ERStorage
    DataType     = Raster
    ByteOrder    = LSBFirst
    CoordinateSpace Begin
        Datum           = "GDA94"
        Projection      = "MGA55"
        CoordinateType  = EN
        Units           = "METRES"
        Rotation        =    0:00:0.0000000 
    CoordinateSpace End
    RasterInfo Begin
        CellType         = IEEE4BYTEREAL
        NullCellValue    = -100000.000000
        CellInfo Begin
            Xdimension = 40.000000
            Ydimension = 40.000000
        CellInfo End
        NrOfLines        = 372
        NrOfCellsPerLine = 930
        RegistrationCoord Begin
            Eastings = 443020.000000
            Northings = 5402510.000000
        RegistrationCoord End
        NrOfBands = 1
        BandId Begin
            Value = "Elevation"
            Units = "m"
        BandId End
    RasterInfo End
DatasetHeader End
