DatasetHeader Begin
	Version	= "6.3"
	Name	= "Grid_NTEVCM_TWT_flip.ers"
	LastUpdated	= Thu Oct 20 10:18:58 GMT 2005
	DataSetType	= ERStorage
	DataType	= Raster
	ByteOrder	= LSBFirst
	CoordinateSpace Begin
		Datum	= "AGD66"
		Projection	= "TMAMG55"
		CoordinateType	= EN
		Units	= "natural"
		Rotation	= 0:0:0.0
	CoordinateSpace End
	RasterInfo Begin
		CellType	= IEEE4ByteReal
		NullCellValue	= -999.25
		CellInfo Begin
			Xdimension	= 560
			Ydimension	= 560
		CellInfo End
		NrOfLines	= 172
		NrOfCellsPerLine	= 202
		RegistrationCoord Begin
			Eastings	= 390033.4123
			Northings	= 5481018.0296
		RegistrationCoord End
		RegistrationCellX	= 0
		RegistrationCellY	= 171
		NrOfBands	= 1
	RasterInfo End
DatasetHeader End
