DatasetHeader Begin
	Version	= "5.5"
	LastUpdated	= Tue Dec 08 22:52:53 GMT 1998
	DataSetType	= ERStorage
	DataType	= Raster
	ByteOrder	= LSBFirst
	CoordinateSpace Begin
		Datum	= "AGD66"
		Projection	= "TMAMG55"
		CoordinateType	= EN
		Units	= "METERS"
		Rotation	= 0:0:0.0
	CoordinateSpace End
	RasterInfo Begin
		CellType	= Unsigned8BitInteger
		NrOfLines	= 5100
		NrOfCellsPerLine	= 5650
		RegistrationCoord Begin
			Eastings	= 383950
			Northings	= 5394050
		RegistrationCoord End
		NrOfBands	= 3
		BandId Begin
			Value	= "Red"
		BandId End
		BandId Begin
			Value	= "Green"
		BandId End
		BandId Begin
			Value	= "Blue"
		BandId End
	RasterInfo End
DatasetHeader End
