DatasetHeader Begin
	Version	= "5.5"
	LastUpdated	= Thu Jan 07 04:08:16 GMT 1999
	DataSetType	= ERStorage
	DataType	= Raster
	ByteOrder	= LSBFirst
	CoordinateSpace Begin
		Datum	= "AGD66"
		Projection	= "TMAMG55"
		CoordinateType	= EN
		Units	= "METERS"
		Rotation	= 0:0:0.0
	CoordinateSpace End
	RasterInfo Begin
		CellType	= Unsigned8BitInteger
		NrOfLines	= 3200
		NrOfCellsPerLine	= 2200
		RegistrationCoord Begin
			Eastings	= 429900
			Northings	= 5414100
		RegistrationCoord End
		RegistrationCellX	= 0
		RegistrationCellY	= 4.547473508865E-013
		NrOfBands	= 1
		BandId Begin
			Value	= "Greyscale"
		BandId End
	RasterInfo End
DatasetHeader End
