DatasetHeader Begin
    Version		= "6.0"
    Name		= "FingalFerrousIronMosaicClip.ers"
    LastUpdated	= Tue Nov 19 05:01:11 GMT 2013
    DataFile	= "FingalFerrousIronMosaicClip.jp2"
    DataSetType	= Translated
    DataType	= Raster
    ByteOrder	= LSBFirst
    CoordinateSpace Begin
        Datum		= "GDA94"
        Projection	= "SUTM55"
        CoordinateType	= EN
        Rotation	= 0:0:0.0
    CoordinateSpace End
    RasterInfo Begin
        CellType	= Unsigned8BitInteger
        CellInfo Begin
	        Xdimension	= 30.00000000000000000
	        Ydimension	= 30.00000000000000000
        CellInfo End
        NrOfLines	= 1593
        NrOfCellsPerLine	= 1968
        RegistrationCoord Begin
	        Eastings	= 544341.73909745808000000
	        Northings	= 5404540.27254764270000000
        RegistrationCoord End
        NrOfBands	= 3
    RasterInfo End
DatasetHeader End
