DatasetHeader Begin
    Version		= "6.0"
    Name		= "FingalQuartzRocksMosaicClip.ers"
    LastUpdated	= Tue Nov 19 04:51:09 GMT 2013
    DataFile	= "FingalQuartzRocksMosaicClip.jp2"
    DataSetType	= Translated
    DataType	= Raster
    ByteOrder	= LSBFirst
    CoordinateSpace Begin
        Datum		= "GDA94"
        Projection	= "SUTM55"
        CoordinateType	= EN
        Rotation	= 0:0:0.0
    CoordinateSpace End
    RasterInfo Begin
        CellType	= Unsigned8BitInteger
        CellInfo Begin
	        Xdimension	= 29.99999999982705700
	        Ydimension	= 29.99999999982709700
        CellInfo End
        NrOfLines	= 4503
        NrOfCellsPerLine	= 3357
        RegistrationCoord Begin
	        Eastings	= 508560.75199993327000000
	        Northings	= 5433814.90801187230000000
        RegistrationCoord End
        NrOfBands	= 3
    RasterInfo End
DatasetHeader End
