!table
!version 300
!charset WindowsLatin1

Definition Table
  File "dunkley fault grid geochem as ren 84-2204 p59 r1p5acw.jpg"
  Type "RASTER"
  (362322,5368014) (3960,3301) Label "Pt 1",
  (364072,5369074) (6717,1640) Label "Pt 2",
  (365022,5366920) (8252,5043) Label "Pt 3",
  (363432,5366344) (5719,5974) Label "Pt 4"
  CoordSys Earth Projection 8, 116, "m", 147, 0, 0.9996, 500000, 10000000
  Units "m"
begin_metadata
"\IsReadOnly" = "FALSE"
"\MapInfo" = ""
"\MapInfo\TableID" = "5bc26c59-89e8-491a-9288-27c710097e02"
end_metadata
