!table
!version 300
!charset WindowsLatin1

Definition Table
  File "dunkley fault grid anomb geochem cu page 31 from 85-2450 rot26acw.jpg"
  Type "RASTER"
  (362144,5368430) (684,1051) Label "Pt 1",
  (362850,5368820) (1814,496) Label "Pt 2",
  (363010,5368090) (2022,1624) Label "Pt 3",
  (362465,5367810) (1174,2035) Label "Pt 4"
  CoordSys Earth Projection 8, 116, "m", 147, 0, 0.9996, 500000, 10000000
  Units "m"
begin_metadata
"\IsReadOnly" = "FALSE"
"\MapInfo" = ""
"\MapInfo\TableID" = "18807369-6d0d-4a97-b1e4-00ba23b003ea"
end_metadata
