DatasetHeader Begin
	Version	= "3.0"
	DataSetType	= ERStorage
	DataType	= Raster
	ByteOrder	= LSBFirst
	CoordinateSpace Begin
		Datum	= "AGD66"
		Projection	= "TMAMG55"
		CoordinateType	= EN
		Units	= "METERS"
		Rotation	= 0:00:00.000
	CoordinateSpace End
	RasterInfo Begin
		CellType	= IEEE4ByteReal
		RegistrationCellX	= 0
		RegistrationCellY	= 0
		NullCellValue	= -1e+032
		CellInfo Begin
			Xdimension	= 100
			Ydimension	= 100
		CellInfo End
		NrOfLines	= 129
		NrOfCellsPerLine	= 161
		RegistrationCoord Begin
			Eastings	= 563150
			Northings	= 5488050
		RegistrationCoord End
		NrOfBands	= 1
		BandId Begin
			Value	= "WaterDepth_m"
		BandId End
	RasterInfo End
DatasetHeader End
