!table
!version 300
!charset WindowsLatin1

Definition Table
  File "jasper grid geol 69-0590 p30 legend.jpg"
  Type "RASTER"
  (0,1) (0,0) Label "Pt 1",
  (1,1) (1,0) Label "Pt 2",
  (0,0) (0,1) Label "Pt 3"
  CoordSys NonEarth Units "ft"
  Units "ft"
begin_metadata
"\IsReadOnly" = "FALSE"
"\MapInfo" = ""
"\MapInfo\TableID" = "73b2bdbf-4a13-4c01-b45f-261e034af0af"
end_metadata
