!table
!version 300
!charset WindowsLatin1

Definition Table
  File "jasper grid geol 69-0590 p30 crop r13cw.jpg"
  Type "RASTER"
  (357640,5407760) (286,20) Label "Pt 1",
  (360300,5407250) (1344,263) Label "Pt 2",
  (359870,5404230) (1196,1438) Label "Pt 3",
  (356980,5404910) (24,1172) Label "Pt 4"
  CoordSys Earth Projection 8, 116, "m", 147, 0, 0.9996, 500000, 10000000
  Units "m"
begin_metadata
"\IsReadOnly" = "FALSE"
"\MapInfo" = ""
"\MapInfo\TableID" = "865b3f8b-2968-479a-b316-8634444bb3a0"
end_metadata
