!table
!version 300
!charset WindowsLatin1

Definition Table
  File "jasper hill geol grid metex 89-3054 p162 legend.jpg"
  Type "RASTER"
  (0,1) (0,0) Label "Pt 1",
  (1,1) (1,0) Label "Pt 2",
  (0,0) (0,1) Label "Pt 3"
  CoordSys NonEarth Units "ft"
  Units "ft"
begin_metadata
"\IsReadOnly" = "FALSE"
"\MapInfo" = ""
"\MapInfo\TableID" = "a342f279-d417-4501-a91f-c90560bfa00b"
end_metadata
