!table
!version 300
!charset WindowsLatin1

Definition Table
  File "jasper hill geol grid metex 89-3054 p162 rot1acw.jpg"
  Type "RASTER"
  (359010,5406280) (422,1007) Label "Pt 1",
  (359640,5406290) (5480,923) Label "Pt 2",
  (359510,5405410) (4492,8058) Label "Pt 3",
  (359020,5405390) (542,8136) Label "Pt 4"
  CoordSys Earth Projection 8, 116, "m", 147, 0, 0.9996, 500000, 10000000
  Units "m"
begin_metadata
"\IsReadOnly" = "FALSE"
"\MapInfo" = ""
"\MapInfo\TableID" = "b487f159-2794-4c71-b8fb-6dba3026fc77"
end_metadata
