!table
!version 300
!charset WindowsLatin1

Definition Table
  File "meredith photogeol ne 03-4914_p3.jpg"
  Type "RASTER"
  (361560,5407530) (292,3074) Label "Pt 1",
  (373710,5411400) (6142,1320) Label "Pt 2",
  (373100,5396360) (5698,8553) Label "Pt 3",
  (361390,5396930) (104,8161) Label "Pt 4"
  CoordSys Earth Projection 8, 116, "m", 147, 0, 0.9996, 500000, 10000000
  Units "m"
begin_metadata
"\IsReadOnly" = "FALSE"
"\MapInfo" = ""
"\MapInfo\TableID" = "e3dfa577-ee91-413c-8d8c-dd8ba7bdb92b"
end_metadata
