!table
!version 300
!charset WindowsLatin1

Definition Table
  File "meredith photogeol se 03-4914_p5.jpg"
  Type "RASTER"
  (363090,5394640) (898,334) Label "Pt 1",
  (373400,5394580) (5840,474) Label "Pt 2",
  (374550,5379450) (6254,7758) Label "Pt 3",
  (362150,5377490) (304,8581) Label "Pt 4"
  CoordSys Earth Projection 8, 116, "m", 147, 0, 0.9996, 500000, 10000000
  Units "m"
begin_metadata
"\IsReadOnly" = "FALSE"
"\MapInfo" = ""
"\MapInfo\TableID" = "17c5ea2a-ba7b-4c45-bc40-d93a6b9c3e8d"
end_metadata
