!table
!version 300
!charset WindowsLatin1

Definition Table
  File "meredith photogeol sw 03-4914_p4.jpg"
  Type "RASTER"
  (350490,5394150) (1808,447) Label "Pt 1",
  (361015,5394140) (6913,559) Label "Pt 2",
  (361040,5377550) (6705,8529) Label "Pt 3",
  (348880,5376740) (941,8801) Label "Pt 4"
  CoordSys Earth Projection 8, 116, "m", 147, 0, 0.9996, 500000, 10000000
  Units "m"
begin_metadata
"\IsReadOnly" = "FALSE"
"\MapInfo" = ""
"\MapInfo\TableID" = "7b147d8d-386c-4695-baa2-c1a9434aa586"
end_metadata
