!table
!version 300
!charset WindowsLatin1

Definition Table
  File "mt stewart geol comstaff 70-0709_p43 rot2p5acw.jpg"
  Type "RASTER"
  (358230,5401555) (494,710) Label "Pt 1",
  (360010,5402020) (1919,330) Label "Pt 2",
  (360520,5399190) (2355,2618) Label "Pt 3",
  (357690,5399850) (50,2062) Label "Pt 4"
  CoordSys Earth Projection 8, 116, "m", 147, 0, 0.9996, 500000, 10000000
  Units "m"
begin_metadata
"\IsReadOnly" = "FALSE"
"\MapInfo" = ""
"\MapInfo\TableID" = "1bc005d0-d375-4282-8a44-0e480ddf9464"
end_metadata
