!table
!version 300
!charset WindowsLatin1

Definition Table
  File "mt stewart geol comstaff 71-0803 p09 arot1acw.jpg"
  Type "RASTER"
  (358330,5401275) (408,258) Label "Pt 1",
  (359360,5401330) (1263,215) Label "Pt 2",
  (359450,5399670) (1330,1552) Label "Pt 3",
  (358430,5399500) (490,1698) Label "Pt 4"
  CoordSys Earth Projection 8, 116, "m", 147, 0, 0.9996, 500000, 10000000
  Units "m"
begin_metadata
"\IsReadOnly" = "FALSE"
"\MapInfo" = ""
"\MapInfo\TableID" = "92bcdcbc-ab83-48cd-ba98-b45131c1b2d8"
end_metadata
