!table
!version 500
!charset WindowsLatin1

Definition Table
  File "findem.ers"
  Type "RASTER"
  (355786.05007300002,5410068.9398100004) (0,0) Label "Pt 1",
  (364206.05007300002,5410068.9398100004) (842,0) Label "Pt 2",
  (364206.05007300002,5397978.9398100004) (842,1209) Label "Pt 3",
  (355786.05007300002,5397978.9398100004) (0,1209) Label "Pt 4"
  CoordSys Earth Projection 8, 116, "m", 147, 0, 0.9996, 500000, 10000000
  Units "m"
  RasterStyle 6 1
begin_metadata
"\IsReadOnly" = "FALSE"
"\Encom" = ""
"\Encom\Grid" = ""
"\Encom\Grid\Histogram" = ""
"\Encom\Grid\Histogram\Bin 98" = "3323"
"\Encom\Grid\Histogram\Bin 145" = "1339"
"\Encom\Grid\Histogram\Bin 144" = "1414"
"\Encom\Grid\Histogram\Bin 44" = "8212"
"\Encom\Grid\Histogram\Bin 56" = "6116"
"\Encom\Grid\Histogram\Bin 27" = "1853"
"\Encom\Grid\Histogram\Bin 212" = "855"
"\Encom\Grid\Histogram\Bin 211" = "657"
"\Encom\Grid\Histogram\Bin 210" = "768"
"\Encom\Grid\Histogram\Bin 249" = "292"
"\Encom\Grid\Histogram\Bin 248" = "341"
"\Encom\Grid\Histogram\Bin 215" = "527"
"\Encom\Grid\Histogram\Bin 119" = "2306"
"\Encom\Grid\Histogram\Bin 118" = "2266"
"\Encom\Grid\Histogram\Bin 35" = "5698"
"\Encom\Grid\Histogram\Bin 113" = "3221"
"\Encom\Grid\Histogram\Bin 112" = "2537"
"\Encom\Grid\Histogram\Bin 111" = "2224"
"\Encom\Grid\Histogram\Bin 110" = "2343"
"\Encom\Grid\Histogram\Bin 117" = "2337"
"\Encom\Grid\Histogram\Bin 116" = "2468"
"\Encom\Grid\Histogram\Bin 115" = "2561"
"\Encom\Grid\Histogram\Bin 81" = "5706"
"\Encom\Grid\Histogram\Bin 75" = "6654"
"\Encom\Grid\Histogram\Bin 162" = "902"
"\Encom\Grid\Histogram\Bin 161" = "857"
"\Encom\Grid\Histogram\Bin 25" = "1646"
"\Encom\Grid\Histogram\Bin 87" = "4758"
"\Encom\Grid\Histogram\Bin 165" = "959"
"\Encom\Grid\Histogram\Bin 86" = "5237"
"\Encom\Grid\Histogram\Bin 191" = "1497"
"\Encom\Grid\Histogram\Bin 10" = "125"
"\Encom\Grid\Histogram\Bin 242" = "250"
"\Encom\Grid\Histogram\Bin 241" = "176"
"\Encom\Grid\Histogram\Bin 194" = "1374"
"\Encom\Grid\Histogram\Bin 247" = "341"
"\Encom\Grid\Histogram\Bin 246" = "241"
"\Encom\Grid\Histogram\Bin 245" = "200"
"\Encom\Grid\Histogram\Bin 94" = "3657"
"\Encom\Grid\Histogram\Bin 15" = "582"
"\Encom\Grid\Histogram\Bin 2" = "18"
"\Encom\Grid\Histogram\Bin 99" = "3211"
"\Encom\Grid\Histogram\Bin 23" = "1178"
"\Encom\Grid\Histogram\Bin 239" = "178"
"\Encom\Grid\Histogram\Bin 28" = "2151"
"\Encom\Grid\Histogram\Bin 129" = "2643"
"\Encom\Grid\Histogram\Bin 128" = "2660"
"\Encom\Grid\Histogram\Bin 36" = "6563"
"\Encom\Grid\Histogram\Bin 123" = "2286"
"\Encom\Grid\Histogram\Bin 122" = "2191"
"\Encom\Grid\Histogram\Bin 121" = "2267"
"\Encom\Grid\Histogram\Bin 120" = "2292"
"\Encom\Grid\Histogram\Bin 127" = "3468"
"\Encom\Grid\Histogram\Bin 126" = "2612"
"\Encom\Grid\Histogram\Bin 125" = "2784"
"\Encom\Grid\Histogram\Bin 124" = "2654"
"\Encom\Grid\Histogram\Bin 41" = "9155"
"\Encom\Grid\Histogram\Bin 172" = "942"
"\Encom\Grid\Histogram\Bin 171" = "918"
"\Encom\Grid\Histogram\Bin 170" = "918"
"\Encom\Grid\Histogram\Bin 177" = "1005"
"\Encom\Grid\Histogram\Bin 176" = "948"
"\Encom\Grid\Histogram\Bin 175" = "847"
"\Encom\Grid\Histogram\Bin 49" = "6742"
"\Encom\Grid\Histogram\Bin 169" = "885"
"\Encom\Grid\Histogram\Bin 11" = "269"
"\Encom\Grid\Histogram\Bin 252" = "32"
"\Encom\Grid\Histogram\Bin 22" = "1001"
"\Encom\Grid\Histogram\Bin 84" = "5585"
"\Encom\Grid\Histogram\Bin 163" = "886"
"\Encom\Grid\Histogram\Bin 255" = "2"
"\Encom\Grid\Histogram\Bin 96" = "3455"
"\Encom\Grid\Histogram\Bin 166" = "854"
"\Encom\Grid\Histogram\Bin 16" = "588"
"\Encom\Grid\Histogram\Bin 164" = "951"
"\Encom\Grid\Histogram\Bin 24" = "1480"
"\Encom\Grid\Histogram\Bin 91" = "3926"
"\Encom\Grid\Histogram\Bin 114" = "2894"
"\Encom\Grid\Histogram\Bin 236" = "272"
"\Encom\Grid\Histogram\Bin 235" = "209"
"\Encom\Grid\Histogram\Bin 234" = "195"
"\Encom\Grid\Histogram\Bin 29" = "2394"
"\Encom\Grid\Histogram\Bin 138" = "1820"
"\Encom\Grid\Histogram\Bin 37" = "7877"
"\Encom\Grid\Histogram\Bin 133" = "2476"
"\Encom\Grid\Histogram\Bin 8" = "16"
"\Encom\Grid\Histogram\Bin 131" = "2401"
"\Encom\Grid\Histogram\Bin 130" = "2606"
"\Encom\Grid\Histogram\Bin 137" = "1920"
"\Encom\Grid\Histogram\Bin 136" = "1934"
"\Encom\Grid\Histogram\Bin 135" = "2166"
"\Encom\Grid\Histogram\Bin 134" = "2437"
"\Encom\Grid\Histogram\Bin 42" = "10818"
"\Encom\Grid\Histogram\Bin 182" = "1110"
"\Encom\Grid\Histogram\Bin 181" = "1013"
"\Encom\Grid\Histogram\Bin 180" = "1005"
"\Encom\Grid\Histogram\Bin 187" = "1552"
"\Encom\Grid\Histogram\Bin 186" = "1660"
"\Encom\Grid\Histogram\Bin 185" = "1725"
"\Encom\Grid\Histogram\Bin 88" = "4695"
"\Encom\Grid\Histogram\Bin 213" = "563"
"\Encom\Grid\Histogram\Bin 50" = "6880"
"\Encom\Grid\Histogram\Bin 193" = "1356"
"\Encom\Grid\Histogram\Bin 214" = "526"
"\Encom\Grid\Histogram\LargerCount" = "1"
"\Encom\Grid\Histogram\Bin 55" = "6256"
"\Encom\Grid\Histogram\Bin 6" = "18"
"\Encom\Grid\Histogram\Bin 63" = "5898"
"\Encom\Grid\Histogram\Bin 160" = "898"
"\Encom\Grid\Histogram\Bin 167" = "874"
"\Encom\Grid\Histogram\Bin 3" = "54"
"\Encom\Grid\Histogram\Bin 68" = "7053"
"\Encom\Grid\Histogram\Bin 202" = "859"
"\Encom\Grid\Histogram\Bin 67" = "6800"
"\Encom\Grid\Histogram\Bin 207" = "851"
"\Encom\Grid\Histogram\Bin 205" = "785"
"\Encom\Grid\Histogram\Bin 4" = "39"
"\Encom\Grid\Histogram\Bin 17" = "657"
"\Encom\Grid\Histogram\Bin 76" = "6511"
"\Encom\Grid\Histogram\Bin 62" = "5809"
"\Encom\Grid\Histogram\Bin 199" = "957"
"\Encom\Grid\Histogram\Bin 198" = "1190"
"\Encom\Grid\Histogram\Bin 12" = "392"
"\Encom\Grid\Histogram\Bin 74" = "6856"
"\Encom\Grid\Histogram\Bin 43" = "8548"
"\Encom\Grid\Histogram\Bin 189" = "1516"
"\Encom\Grid\Histogram\Bin 188" = "1479"
"\Encom\Grid\Histogram\Bin 190" = "1587"
"\Encom\Grid\Histogram\Bin 1" = "2"
"\Encom\Grid\Histogram\Bin 196" = "1701"
"\Encom\Grid\Histogram\Bin 195" = "1597"
"\Encom\Grid\Histogram\Bin 89" = "4615"
"\Encom\Grid\Histogram\Bin 51" = "6603"
"\Encom\Grid\Histogram\Bin 139" = "1849"
"\Encom\Grid\Histogram\MaxValue" = "791.7403564453"
"\Encom\Grid\Histogram\SmallerCount" = "0"
"\Encom\Grid\Histogram\Bin 132" = "2476"
"\Encom\Grid\Histogram\Bin 253" = "16"
"\Encom\Grid\Histogram\Bin 174" = "866"
"\Encom\Grid\Histogram\Bin 250" = "145"
"\Encom\Grid\Histogram\Bin 64" = "6369"
"\Encom\Grid\Histogram\Bin 254" = "7"
"\Encom\Grid\Histogram\Bin 168" = "969"
"\Encom\Grid\Histogram\Bin 69" = "7082"
"\Encom\Grid\Histogram\Bin 31" = "3149"
"\Encom\Grid\Histogram\Bin 34" = "4845"
"\Encom\Grid\Histogram\Bin 77" = "6403"
"\Encom\Grid\Histogram\Bin 238" = "274"
"\Encom\Grid\Histogram\Bin 232" = "204"
"\Encom\Grid\Histogram\Bin 209" = "738"
"\Encom\Grid\Histogram\Bin 208" = "723"
"\Encom\Grid\Histogram\Bin 82" = "5436"
"\Encom\Grid\Histogram\Bin 203" = "808"
"\Encom\Grid\Histogram\Bin 60" = "5815"
"\Encom\Grid\Histogram\Bin 201" = "829"
"\Encom\Grid\Histogram\Bin 18" = "732"
"\Encom\Grid\Histogram\Bin 71" = "7615"
"\Encom\Grid\Histogram\Bin 206" = "867"
"\Encom\Grid\Histogram\Bin 90" = "4226"
"\Encom\Grid\Histogram\Bin 83" = "5580"
"\Encom\Grid\Histogram\Bin 183" = "1258"
"\Encom\Grid\Histogram\Bin 153" = "991"
"\Encom\Grid\Histogram\Bin 152" = "962"
"\Encom\Grid\Histogram\Bin 157" = "905"
"\Encom\Grid\Histogram\Bin 95" = "3315"
"\Encom\Grid\Histogram\Bin 154" = "967"
"\Encom\Grid\Histogram\BinCount" = "256"
"\Encom\Grid\Histogram\Bin 229" = "207"
"\Encom\Grid\Histogram\Bin 228" = "214"
"\Encom\Grid\Histogram\Bin 57" = "6072"
"\Encom\Grid\Histogram\Bin 104" = "2979"
"\Encom\Grid\Histogram\Bin 221" = "406"
"\Encom\Grid\Histogram\Bin 227" = "218"
"\Encom\Grid\Histogram\Bin 224" = "304"
"\Encom\Grid\Histogram\Bin 19" = "828"
"\Encom\Grid\Histogram\Bin 52" = "6477"
"\Encom\Grid\Histogram\Bin 32" = "3241"
"\Encom\Grid\Histogram\Bin 78" = "6540"
"\Encom\Grid\Histogram\Bin 40" = "9438"
"\Encom\Grid\Histogram\Bin 200" = "850"
"\Encom\Grid\Histogram\Bin 219" = "444"
"\Encom\Grid\Histogram\Bin 218" = "504"
"\Encom\Grid\Histogram\Bin 45" = "8560"
"\Encom\Grid\Histogram\Bin 38" = "8570"
"\Encom\Grid\Histogram\Bin 5" = "18"
"\Encom\Grid\Histogram\Bin 192" = "1555"
"\Encom\Grid\Histogram\Bin 217" = "511"
"\Encom\Grid\Histogram\Bin 216" = "502"
"\Encom\Grid\Histogram\Bin 197" = "1482"
"\Encom\Grid\Histogram\Bin 53" = "6384"
"\Encom\Grid\Histogram\MinValue" = "165.7621459961"
"\Encom\Grid\Histogram\Bin 20" = "914"
"\Encom\Grid\Histogram\Bin 30" = "2737"
"\Encom\Grid\Histogram\Bin 184" = "1442"
"\Encom\Grid\Histogram\Bin 66" = "6712"
"\Encom\Grid\Histogram\Bin 58" = "5991"
"\Encom\Grid\Histogram\Bin 54" = "6305"
"\Encom\Grid\Histogram\Bin 251" = "78"
"\Encom\Grid\Histogram\Bin 33" = "3492"
"\Encom\Grid\Histogram\Bin 0" = "2"
"\Encom\Grid\Histogram\Bin 79" = "6182"
"\Encom\Grid\Histogram\Bin 149" = "909"
"\Encom\Grid\Histogram\Bin 148" = "1005"
"\Encom\Grid\Histogram\Bin 61" = "5765"
"\Encom\Grid\Histogram\Bin 143" = "1473"
"\Encom\Grid\Histogram\Bin 142" = "1825"
"\Encom\Grid\Histogram\Bin 141" = "1846"
"\Encom\Grid\Histogram\Bin 140" = "1793"
"\Encom\Grid\Histogram\Bin 147" = "1200"
"\Encom\Grid\Histogram\Bin 146" = "1317"
"\Encom\Grid\Histogram\Bin 73" = "7162"
"\Encom\Grid\Histogram\Bin 46" = "8079"
"\Encom\Grid\Histogram\Bin 179" = "995"
"\Encom\Grid\Histogram\Bin 178" = "981"
"\Encom\Grid\Histogram\Bin 223" = "330"
"\Encom\Grid\Histogram\Bin 222" = "362"
"\Encom\Grid\Histogram\Bin 85" = "5197"
"\Encom\Grid\Histogram\Bin 220" = "418"
"\Encom\Grid\Histogram\Bin 173" = "891"
"\Encom\Grid\Histogram\Bin 226" = "255"
"\Encom\Grid\Histogram\Bin 225" = "237"
"\Encom\Grid\Histogram\Bin 92" = "3781"
"\Encom\Grid\Histogram\Bin 13" = "436"
"\Encom\Grid\Histogram\Bin 7" = "16"
"\Encom\Grid\Histogram\Bin 97" = "3324"
"\Encom\Grid\Histogram\Bin 59" = "5925"
"\Encom\Grid\Histogram\Bin 21" = "922"
"\Encom\Grid\Histogram\Bin 48" = "7272"
"\Encom\Grid\Histogram\Bin 243" = "256"
"\Encom\Grid\Histogram\Bin 204" = "746"
"\Encom\Grid\Histogram\Bin 240" = "174"
"\Encom\Grid\Histogram\Bin 244" = "223"
"\Encom\Grid\Histogram\Bin 26" = "1726"
"\Encom\Grid\Histogram\Bin 109" = "2607"
"\Encom\Grid\Histogram\Bin 108" = "2844"
"\Encom\Grid\Histogram\Bin 72" = "7649"
"\Encom\Grid\Histogram\Bin 159" = "878"
"\Encom\Grid\Histogram\Bin 158" = "999"
"\Encom\Grid\Histogram\Bin 103" = "2989"
"\Encom\Grid\Histogram\Bin 102" = "3171"
"\Encom\Grid\Histogram\Bin 101" = "3161"
"\Encom\Grid\Histogram\Bin 100" = "3190"
"\Encom\Grid\Histogram\Bin 107" = "2854"
"\Encom\Grid\Histogram\Bin 106" = "2899"
"\Encom\Grid\Histogram\Bin 105" = "3022"
"\Encom\Grid\Histogram\Bin 80" = "5914"
"\Encom\Grid\Histogram\Bin 39" = "9623"
"\Encom\Grid\Histogram\Bin 65" = "6401"
"\Encom\Grid\Histogram\Bin 151" = "932"
"\Encom\Grid\Histogram\Bin 150" = "934"
"\Encom\Grid\Histogram\Bin 156" = "914"
"\Encom\Grid\Histogram\Bin 155" = "978"
"\Encom\Grid\Histogram\Bin 47" = "7332"
"\Encom\Grid\Histogram\Bin 233" = "214"
"\Encom\Grid\Histogram\Bin 9" = "33"
"\Encom\Grid\Histogram\Bin 231" = "200"
"\Encom\Grid\Histogram\Bin 230" = "178"
"\Encom\Grid\Histogram\Bin 237" = "274"
"\Encom\Grid\Histogram\Bin 70" = "7387"
"\Encom\Grid\Histogram\Bin 93" = "3782"
"\Encom\Grid\Histogram\Bin 14" = "422"
"\Encom\Grid\Display" = ""
"\Encom\Grid\Display\Colouring" = ""
"\Encom\Grid\Display\Colouring\Ranges" = "16"
"\Encom\Grid\Display\Colouring\Range 13" = "478.139944374558"
"\Encom\Grid\Display\Colouring\Range 16" = "791.7403564453"
"\Encom\Grid\Display\Colouring\Range 8" = "346.708972454072"
"\Encom\Grid\Display\Colouring\Range 9" = "361.991643607617"
"\Encom\Grid\Display\Colouring\Range 2" = "262.959934532646"
"\Encom\Grid\Display\Colouring\Range 3" = "273.963457763198"
"\Encom\Grid\Display\Colouring\Range 0" = "165.7621459961"
"\Encom\Grid\Display\Colouring\Range 1" = "250.73379760981"
"\Encom\Grid\Display\Colouring\Range 6" = "318.588857531549"
"\Encom\Grid\Display\Colouring\Range 7" = "333.260221838952"
"\Encom\Grid\Display\Colouring\Range 4" = "286.800901532176"
"\Encom\Grid\Display\Colouring\Range 5" = "302.083572685721"
"\Encom\Grid\Display\Colouring\Range 12" = "439.016306221483"
"\Encom\Grid\Display\Colouring\Range 15" = "623.630973756306"
"\Encom\Grid\Display\Colouring\Range 11" = "405.394429683684"
"\Encom\Grid\Display\Colouring\Range 14" = "526.43318521976"
"\Encom\Grid\Display\Colouring\Range 10" = "380.330848991871"
"\Encom\Grid\Display\SunHighlightElevation" = "60.0"
"\Encom\Grid\Display\MaxCellValue" = "791.74035644529999"
"\Encom\Grid\Display\Max Cell Value to Colour" = "791.7403564453"
"\Encom\Grid\Display\SunHighlightAzimuth" = "315.0"
"\Encom\Grid\Display\SunHighlightIntensity" = "40.0"
"\Encom\Grid\Display\SunIntensitySaturation" = "100.0"
"\Encom\Grid\Display\Min Cell Value to Colour" = "165.7621459961"
"\Encom\Grid\Display\Type" = "3"
"\Encom\Grid\Display\SunHighlightSaturation" = "0.0"
"\Encom\Grid\Display\SunShadowDepth" = "40.0"
"\Encom\Grid\Display\SunShading" = "1"
"\Encom\Grid\Display\SunAzimuthDeg" = "280.0"
"\Encom\Grid\Display\SunElevation" = "45.0"
"\Encom\Grid\Display\SunHighlight" = "1"
"\Encom\Grid\Display\LUT" = "greyscale"
"\Encom\Grid\Display\MinCellValue" = "165.76214599610000"
"\Encom\Grid\Display\SunColorSaturation" = "0.0"
end_metadata
