!table
!version 500
!charset WindowsLatin1

Definition Table
  File "finmag_1vd.ers"
  Type "RASTER"
  (355796.05009500001,5410068.9397799997) (0,0) Label "Pt 1",
  (364206.05009500001,5410068.9397799997) (841,0) Label "Pt 2",
  (355796.05009500001,5397978.9397799997) (0,1209) Label "Pt 3",
  (364206.05009500001,5397978.9397799997) (841,1209) Label "Pt 4"
  CoordSys Earth Projection 8, 116, "m", 147, 0, 0.9996, 500000, 10000000
  Units "m"
  RasterStyle 6 1
begin_metadata
"\IsReadOnly" = "FALSE"
"\Encom" = ""
"\Encom\Grid" = ""
"\Encom\Grid\Histogram" = ""
"\Encom\Grid\Histogram\Bin 22" = "0"
"\Encom\Grid\Histogram\Bin 219" = "0"
"\Encom\Grid\Histogram\Bin 213" = "1"
"\Encom\Grid\Histogram\Bin 249" = "1"
"\Encom\Grid\Histogram\Bin 214" = "2"
"\Encom\Grid\Histogram\Bin 18" = "3"
"\Encom\Grid\Histogram\Bin 73" = "184087"
"\Encom\Grid\Histogram\Bin 116" = "105"
"\Encom\Grid\Histogram\Bin 168" = "2"
"\Encom\Grid\Histogram\Bin 114" = "105"
"\Encom\Grid\Histogram\SmallerCount" = "0"
"\Encom\Grid\Histogram\Bin 46" = "131"
"\Encom\Grid\Histogram\Bin 160" = "2"
"\Encom\Grid\Histogram\Bin 167" = "2"
"\Encom\Grid\Histogram\Bin 86" = "1259"
"\Encom\Grid\Histogram\Bin 243" = "0"
"\Encom\Grid\Histogram\Bin 240" = "0"
"\Encom\Grid\Histogram\Bin 244" = "0"
"\Encom\Grid\Histogram\Bin 61" = "1341"
"\Encom\Grid\Histogram\Bin 74" = "64459"
"\Encom\Grid\Histogram\Bin 179" = "3"
"\Encom\Grid\Histogram\Bin 178" = "4"
"\Encom\Grid\Histogram\Bin 170" = "3"
"\Encom\Grid\Histogram\Bin 177" = "0"
"\Encom\Grid\Histogram\Bin 176" = "1"
"\Encom\Grid\Histogram\Bin 175" = "2"
"\Encom\Grid\Histogram\Bin 49" = "165"
"\Encom\Grid\Histogram\Bin 169" = "2"
"\Encom\Grid\Histogram\Bin 11" = "1"
"\Encom\Grid\Histogram\Bin 252" = "0"
"\Encom\Grid\Histogram\Bin 251" = "0"
"\Encom\Grid\Histogram\Bin 250" = "1"
"\Encom\Grid\Histogram\Bin 255" = "1"
"\Encom\Grid\Histogram\Bin 96" = "451"
"\Encom\Grid\Histogram\Bin 16" = "2"
"\Encom\Grid\Histogram\Bin 164" = "4"
"\Encom\Grid\Histogram\Bin 24" = "5"
"\Encom\Grid\Histogram\Bin 91" = "683"
"\Encom\Grid\Histogram\Bin 235" = "1"
"\Encom\Grid\Histogram\Bin 29" = "12"
"\Encom\Grid\Histogram\Bin 155" = "4"
"\Encom\Grid\Histogram\Bin 70" = "27393"
"\Encom\Grid\Histogram\Bin 138" = "10"
"\Encom\Grid\Histogram\Bin 37" = "41"
"\Encom\Grid\Histogram\Bin 133" = "21"
"\Encom\Grid\Histogram\Bin 8" = "2"
"\Encom\Grid\Histogram\Bin 131" = "22"
"\Encom\Grid\Histogram\Bin 130" = "28"
"\Encom\Grid\Histogram\Bin 137" = "17"
"\Encom\Grid\Histogram\Bin 189" = "1"
"\Encom\Grid\Histogram\Bin 188" = "0"
"\Encom\Grid\Histogram\Bin 134" = "19"
"\Encom\Grid\Histogram\Bin 42" = "70"
"\Encom\Grid\Histogram\Bin 182" = "1"
"\Encom\Grid\Histogram\Bin 181" = "3"
"\Encom\Grid\Histogram\Bin 180" = "0"
"\Encom\Grid\Histogram\Bin 187" = "3"
"\Encom\Grid\Histogram\Bin 186" = "0"
"\Encom\Grid\Histogram\Bin 185" = "1"
"\Encom\Grid\Histogram\Bin 184" = "2"
"\Encom\Grid\Histogram\Bin 50" = "179"
"\Encom\Grid\Histogram\Bin 104" = "287"
"\Encom\Grid\Histogram\Bin 55" = "420"
"\Encom\Grid\Histogram\Bin 6" = "2"
"\Encom\Grid\Histogram\Bin 63" = "1975"
"\Encom\Grid\Histogram\Bin 43" = "84"
"\Encom\Grid\Histogram\Bin 3" = "0"
"\Encom\Grid\Histogram\Bin 68" = "8368"
"\Encom\Grid\Histogram\Bin 9" = "1"
"\Encom\Grid\Histogram\Bin 67" = "5723"
"\Encom\Grid\Histogram\Bin 205" = "3"
"\Encom\Grid\Histogram\Bin 204" = "0"
"\Encom\Grid\Histogram\Bin 76" = "12939"
"\Encom\Grid\Histogram\Bin 62" = "1695"
"\Encom\Grid\Histogram\Bin 199" = "2"
"\Encom\Grid\Histogram\Bin 198" = "0"
"\Encom\Grid\Histogram\Bin 12" = "1"
"\Encom\Grid\Histogram\Bin 193" = "2"
"\Encom\Grid\Histogram\Bin 192" = "1"
"\Encom\Grid\Histogram\Bin 191" = "3"
"\Encom\Grid\Histogram\Bin 190" = "2"
"\Encom\Grid\Histogram\Bin 197" = "1"
"\Encom\Grid\Histogram\Bin 196" = "2"
"\Encom\Grid\Histogram\Bin 195" = "2"
"\Encom\Grid\Histogram\Bin 89" = "855"
"\Encom\Grid\Histogram\Bin 51" = "236"
"\Encom\Grid\Histogram\Bin 139" = "16"
"\Encom\Grid\Histogram\Bin 17" = "1"
"\Encom\Grid\Histogram\MaxValue" = "95.5999679565"
"\Encom\Grid\Histogram\Bin 85" = "1381"
"\Encom\Grid\Histogram\Bin 132" = "35"
"\Encom\Grid\Histogram\Bin 1" = "0"
"\Encom\Grid\Histogram\Bin 93" = "595"
"\Encom\Grid\Histogram\Bin 136" = "17"
"\Encom\Grid\Histogram\Bin 135" = "16"
"\Encom\Grid\Histogram\Bin 72" = "169934"
"\Encom\Grid\Histogram\Bin 64" = "2500"
"\Encom\Grid\Histogram\Bin 254" = "0"
"\Encom\Grid\Histogram\Bin 69" = "13234"
"\Encom\Grid\Histogram\Bin 31" = "16"
"\Encom\Grid\Histogram\Bin 239" = "0"
"\Encom\Grid\Histogram\Bin 209" = "0"
"\Encom\Grid\Histogram\Bin 208" = "0"
"\Encom\Grid\Histogram\Bin 82" = "2195"
"\Encom\Grid\Histogram\Bin 203" = "2"
"\Encom\Grid\Histogram\Bin 202" = "0"
"\Encom\Grid\Histogram\Bin 201" = "2"
"\Encom\Grid\Histogram\Bin 200" = "1"
"\Encom\Grid\Histogram\Bin 207" = "0"
"\Encom\Grid\Histogram\Bin 206" = "1"
"\Encom\Grid\Histogram\Bin 90" = "732"
"\Encom\Grid\Histogram\Bin 83" = "1905"
"\Encom\Grid\Histogram\Bin 183" = "1"
"\Encom\Grid\Histogram\Bin 153" = "5"
"\Encom\Grid\Histogram\Bin 33" = "14"
"\Encom\Grid\Histogram\Bin 157" = "3"
"\Encom\Grid\Histogram\Bin 156" = "3"
"\Encom\Grid\Histogram\Bin 95" = "522"
"\Encom\Grid\Histogram\BinCount" = "256"
"\Encom\Grid\Histogram\Bin 65" = "3057"
"\Encom\Grid\Histogram\Bin 105" = "255"
"\Encom\Grid\Histogram\Bin 7" = "0"
"\Encom\Grid\Histogram\Bin 57" = "610"
"\Encom\Grid\Histogram\Bin 19" = "1"
"\Encom\Grid\Histogram\Bin 52" = "279"
"\Encom\Grid\Histogram\Bin 32" = "9"
"\Encom\Grid\Histogram\Bin 78" = "5160"
"\Encom\Grid\Histogram\Bin 40" = "53"
"\Encom\Grid\Histogram\Bin 88" = "1013"
"\Encom\Grid\Histogram\Bin 218" = "0"
"\Encom\Grid\Histogram\Bin 45" = "88"
"\Encom\Grid\Histogram\Bin 38" = "30"
"\Encom\Grid\Histogram\Bin 5" = "1"
"\Encom\Grid\Histogram\Bin 211" = "0"
"\Encom\Grid\Histogram\Bin 210" = "0"
"\Encom\Grid\Histogram\Bin 217" = "0"
"\Encom\Grid\Histogram\Bin 216" = "1"
"\Encom\Grid\Histogram\Bin 215" = "0"
"\Encom\Grid\Histogram\Bin 53" = "328"
"\Encom\Grid\Histogram\MinValue" = "-38.1257781982"
"\Encom\Grid\Histogram\Bin 58" = "742"
"\Encom\Grid\Histogram\Bin 20" = "2"
"\Encom\Grid\Histogram\Bin 30" = "15"
"\Encom\Grid\Histogram\Bin 66" = "4423"
"\Encom\Grid\Histogram\Bin 54" = "387"
"\Encom\Grid\Histogram\Bin 253" = "0"
"\Encom\Grid\Histogram\Bin 71" = "61634"
"\Encom\Grid\Histogram\Bin 0" = "2"
"\Encom\Grid\Histogram\Bin 79" = "3913"
"\Encom\Grid\Histogram\Bin 149" = "6"
"\Encom\Grid\Histogram\Bin 148" = "3"
"\Encom\Grid\Histogram\Bin 77" = "8054"
"\Encom\Grid\Histogram\Bin 143" = "7"
"\Encom\Grid\Histogram\Bin 142" = "12"
"\Encom\Grid\Histogram\Bin 141" = "9"
"\Encom\Grid\Histogram\Bin 140" = "18"
"\Encom\Grid\Histogram\Bin 229" = "1"
"\Encom\Grid\Histogram\Bin 228" = "0"
"\Encom\Grid\Histogram\Bin 84" = "1636"
"\Encom\Grid\Histogram\Bin 223" = "2"
"\Encom\Grid\Histogram\Bin 222" = "0"
"\Encom\Grid\Histogram\Bin 221" = "1"
"\Encom\Grid\Histogram\Bin 220" = "1"
"\Encom\Grid\Histogram\Bin 227" = "0"
"\Encom\Grid\Histogram\Bin 226" = "0"
"\Encom\Grid\Histogram\Bin 225" = "1"
"\Encom\Grid\Histogram\Bin 224" = "0"
"\Encom\Grid\Histogram\Bin 97" = "471"
"\Encom\Grid\Histogram\Bin 174" = "2"
"\Encom\Grid\Histogram\Bin 47" = "141"
"\Encom\Grid\Histogram\Bin 248" = "0"
"\Encom\Grid\Histogram\Bin 59" = "901"
"\Encom\Grid\Histogram\Bin 21" = "5"
"\Encom\Grid\Histogram\Bin 92" = "600"
"\Encom\Grid\Histogram\Bin 26" = "10"
"\Encom\Grid\Histogram\Bin 109" = "191"
"\Encom\Grid\Histogram\Bin 108" = "210"
"\Encom\Grid\Histogram\Bin 34" = "15"
"\Encom\Grid\Histogram\Bin 159" = "6"
"\Encom\Grid\Histogram\LargerCount" = "1"
"\Encom\Grid\Histogram\Bin 103" = "270"
"\Encom\Grid\Histogram\Bin 102" = "329"
"\Encom\Grid\Histogram\Bin 101" = "342"
"\Encom\Grid\Histogram\Bin 100" = "361"
"\Encom\Grid\Histogram\Bin 107" = "238"
"\Encom\Grid\Histogram\Bin 106" = "232"
"\Encom\Grid\Histogram\Bin 158" = "4"
"\Encom\Grid\Histogram\Bin 80" = "3162"
"\Encom\Grid\Histogram\Bin 39" = "49"
"\Encom\Grid\Histogram\Bin 152" = "6"
"\Encom\Grid\Histogram\Bin 151" = "8"
"\Encom\Grid\Histogram\Bin 150" = "7"
"\Encom\Grid\Histogram\Bin 238" = "0"
"\Encom\Grid\Histogram\Bin 154" = "2"
"\Encom\Grid\Histogram\Bin 233" = "0"
"\Encom\Grid\Histogram\Bin 232" = "1"
"\Encom\Grid\Histogram\Bin 231" = "1"
"\Encom\Grid\Histogram\Bin 230" = "2"
"\Encom\Grid\Histogram\Bin 237" = "0"
"\Encom\Grid\Histogram\Bin 236" = "1"
"\Encom\Grid\Histogram\Bin 234" = "0"
"\Encom\Grid\Histogram\Bin 14" = "0"
"\Encom\Grid\Histogram\Bin 2" = "0"
"\Encom\Grid\Histogram\Bin 4" = "1"
"\Encom\Grid\Histogram\Bin 10" = "0"
"\Encom\Grid\Histogram\Bin 13" = "0"
"\Encom\Grid\Histogram\Bin 15" = "0"
"\Encom\Grid\Histogram\Bin 23" = "9"
"\Encom\Grid\Histogram\Bin 25" = "4"
"\Encom\Grid\Histogram\Bin 27" = "8"
"\Encom\Grid\Histogram\Bin 28" = "4"
"\Encom\Grid\Histogram\Bin 35" = "27"
"\Encom\Grid\Histogram\Bin 36" = "29"
"\Encom\Grid\Histogram\Bin 41" = "59"
"\Encom\Grid\Histogram\Bin 44" = "79"
"\Encom\Grid\Histogram\Bin 48" = "150"
"\Encom\Grid\Histogram\Bin 56" = "481"
"\Encom\Grid\Histogram\Bin 60" = "1091"
"\Encom\Grid\Histogram\Bin 75" = "25300"
"\Encom\Grid\Histogram\Bin 81" = "2573"
"\Encom\Grid\Histogram\Bin 87" = "1098"
"\Encom\Grid\Histogram\Bin 94" = "549"
"\Encom\Grid\Histogram\Bin 98" = "399"
"\Encom\Grid\Histogram\Bin 99" = "404"
"\Encom\Grid\Histogram\Bin 110" = "178"
"\Encom\Grid\Histogram\Bin 111" = "142"
"\Encom\Grid\Histogram\Bin 112" = "129"
"\Encom\Grid\Histogram\Bin 113" = "107"
"\Encom\Grid\Histogram\Bin 115" = "112"
"\Encom\Grid\Histogram\Bin 117" = "96"
"\Encom\Grid\Histogram\Bin 118" = "82"
"\Encom\Grid\Histogram\Bin 119" = "82"
"\Encom\Grid\Histogram\Bin 120" = "71"
"\Encom\Grid\Histogram\Bin 121" = "62"
"\Encom\Grid\Histogram\Bin 122" = "81"
"\Encom\Grid\Histogram\Bin 123" = "49"
"\Encom\Grid\Histogram\Bin 124" = "46"
"\Encom\Grid\Histogram\Bin 125" = "52"
"\Encom\Grid\Histogram\Bin 126" = "45"
"\Encom\Grid\Histogram\Bin 127" = "31"
"\Encom\Grid\Histogram\Bin 128" = "47"
"\Encom\Grid\Histogram\Bin 129" = "42"
"\Encom\Grid\Histogram\Bin 144" = "5"
"\Encom\Grid\Histogram\Bin 145" = "12"
"\Encom\Grid\Histogram\Bin 146" = "7"
"\Encom\Grid\Histogram\Bin 147" = "10"
"\Encom\Grid\Histogram\Bin 161" = "4"
"\Encom\Grid\Histogram\Bin 162" = "4"
"\Encom\Grid\Histogram\Bin 163" = "3"
"\Encom\Grid\Histogram\Bin 165" = "5"
"\Encom\Grid\Histogram\Bin 166" = "1"
"\Encom\Grid\Histogram\Bin 171" = "4"
"\Encom\Grid\Histogram\Bin 172" = "0"
"\Encom\Grid\Histogram\Bin 173" = "2"
"\Encom\Grid\Histogram\Bin 194" = "2"
"\Encom\Grid\Histogram\Bin 212" = "0"
"\Encom\Grid\Histogram\Bin 241" = "0"
"\Encom\Grid\Histogram\Bin 242" = "0"
"\Encom\Grid\Histogram\Bin 245" = "0"
"\Encom\Grid\Histogram\Bin 246" = "0"
"\Encom\Grid\Histogram\Bin 247" = "0"
"\Encom\Grid\Display" = ""
"\Encom\Grid\Display\SunHighlightElevation" = "80.0"
"\Encom\Grid\Display\MaxCellValue" = "95.59996795650000"
"\Encom\Grid\Display\SunHighlightAzimuth" = "45.0"
"\Encom\Grid\Display\SunHighlightIntensity" = "50.0"
"\Encom\Grid\Display\Max Cell Value to Colour" = "12.177595138549805"
"\Encom\Grid\Display\SunIntensitySaturation" = "100.0"
"\Encom\Grid\Display\Min Cell Value to Colour" = "-20.941396713256836"
"\Encom\Grid\Display\Type" = "1"
"\Encom\Grid\Display\SunHighlightSaturation" = "0.0"
"\Encom\Grid\Display\SunShadowDepth" = "55.0"
"\Encom\Grid\Display\SunShading" = "1"
"\Encom\Grid\Display\SunAzimuthDeg" = "45.0"
"\Encom\Grid\Display\SunElevation" = "85.0"
"\Encom\Grid\Display\SunHighlight" = "0"
"\Encom\Grid\Display\LUT" = "greyscale"
"\Encom\Grid\Display\MinCellValue" = "-38.12577819820000"
"\Encom\Grid\Display\SunColorSaturation" = "20.0"
end_metadata
