!table
!version 300
!charset WindowsLatin1

Definition Table
  File "sj-1 dhem loops smeg_1303.jpg"
  Type "RASTER"
  (358500,5406500) (183,353) Label "Pt 1",
  (359200,5406500) (1838,353) Label "Pt 2",
  (359200,5405700) (1839,2240) Label "Pt 3",
  (358500,5405700) (185,2241) Label "Pt 4"
  CoordSys Earth Projection 8, 116, "m", 147, 0, 0.9996, 500000, 10000000
  Units "m"
begin_metadata
"\IsReadOnly" = "FALSE"
"\MapInfo" = ""
"\MapInfo\TableID" = "3a185caa-48b2-4d4a-bab8-0f5477afd006"
end_metadata
