!table
!version 500
!charset WindowsLatin1

Definition Table
  File "ch15.ers"
  Type "RASTER"
  (357742.5,5408227.5) (0,0) Label "Pt 1",
  (361162.5,5408227.5) (228,0) Label "Pt 2",
  (361162.5,5401207.5) (228,468) Label "Pt 3",
  (357742.5,5401207.5) (0,468) Label "Pt 4"
  CoordSys Earth Projection 8, 116, "m", 147, 0, 0.9996, 500000, 10000000
  Units "m"
  RasterStyle 6 1
begin_metadata
"\IsReadOnly" = "FALSE"
"\MapInfo" = ""
"\MapInfo\TableID" = "61a2e07c-9463-4bc4-a900-893f86b4dce1"
"\Encom" = ""
"\Encom\Grid" = ""
"\Encom\Grid\Histogram" = ""
"\Encom\Grid\Histogram\Bin 91" = "35"
"\Encom\Grid\Histogram\Bin 133" = "21"
"\Encom\Grid\Histogram\Bin 79" = "46"
"\Encom\Grid\Histogram\Bin 131" = "23"
"\Encom\Grid\Histogram\Bin 6" = "5"
"\Encom\Grid\Histogram\Bin 137" = "23"
"\Encom\Grid\Histogram\Bin 136" = "26"
"\Encom\Grid\Histogram\Bin 135" = "25"
"\Encom\Grid\Histogram\Bin 134" = "19"
"\Encom\Grid\Histogram\Bin 147" = "16"
"\Encom\Grid\Histogram\Bin 51" = "174"
"\Encom\Grid\Histogram\Bin 85" = "37"
"\Encom\Grid\Histogram\Bin 179" = "1"
"\Encom\Grid\Histogram\Bin 178" = "1"
"\Encom\Grid\Histogram\BinCount" = "256"
"\Encom\Grid\Histogram\Bin 173" = "4"
"\Encom\Grid\Histogram\Bin 172" = "4"
"\Encom\Grid\Histogram\Bin 171" = "3"
"\Encom\Grid\Histogram\Bin 170" = "3"
"\Encom\Grid\Histogram\Bin 177" = "2"
"\Encom\Grid\Histogram\Bin 176" = "1"
"\Encom\Grid\Histogram\Bin 175" = "2"
"\Encom\Grid\Histogram\Bin 174" = "4"
"\Encom\Grid\Histogram\Bin 209" = "0"
"\Encom\Grid\Histogram\Bin 64" = "99"
"\Encom\Grid\Histogram\Bin 69" = "79"
"\Encom\Grid\Histogram\Bin 19" = "3758"
"\Encom\Grid\Histogram\Bin 98" = "27"
"\Encom\Grid\Histogram\Bin 67" = "92"
"\Encom\Grid\Histogram\Bin 24" = "1998"
"\Encom\Grid\Histogram\Bin 70" = "60"
"\Encom\Grid\Histogram\Bin 161" = "3"
"\Encom\Grid\Histogram\Bin 34" = "1380"
"\Encom\Grid\Histogram\Bin 118" = "24"
"\Encom\Grid\Histogram\Bin 22" = "2342"
"\Encom\Grid\Histogram\Bin 87" = "38"
"\Encom\Grid\Histogram\Bin 113" = "22"
"\Encom\Grid\Histogram\Bin 77" = "47"
"\Encom\Grid\Histogram\Bin 111" = "21"
"\Encom\Grid\Histogram\Bin 110" = "24"
"\Encom\Grid\Histogram\Bin 117" = "22"
"\Encom\Grid\Histogram\Bin 116" = "18"
"\Encom\Grid\Histogram\Bin 115" = "18"
"\Encom\Grid\Histogram\Bin 114" = "36"
"\Encom\Grid\Histogram\Bin 86" = "42"
"\Encom\Grid\Histogram\Bin 84" = "34"
"\Encom\Grid\Histogram\Bin 92" = "21"
"\Encom\Grid\Histogram\Bin 47" = "265"
"\Encom\Grid\Histogram\Bin 248" = "1"
"\Encom\Grid\Histogram\Bin 243" = "0"
"\Encom\Grid\Histogram\Bin 242" = "1"
"\Encom\Grid\Histogram\Bin 151" = "17"
"\Encom\Grid\Histogram\Bin 150" = "13"
"\Encom\Grid\Histogram\Bin 157" = "6"
"\Encom\Grid\Histogram\Bin 246" = "1"
"\Encom\Grid\Histogram\Bin 188" = "1"
"\Encom\Grid\Histogram\Bin 154" = "11"
"\Encom\Grid\Histogram\Bin 102" = "26"
"\Encom\Grid\Histogram\Bin 62" = "101"
"\Encom\Grid\Histogram\Bin 17" = "7165"
"\Encom\Grid\Histogram\Bin 96" = "24"
"\Encom\Grid\Histogram\Bin 55" = "150"
"\Encom\Grid\Histogram\Bin 219" = "0"
"\Encom\Grid\Histogram\Bin 32" = "1585"
"\Encom\Grid\Histogram\Bin 9" = "12"
"\Encom\Grid\Histogram\Bin 75" = "56"
"\Encom\Grid\Histogram\Bin 76" = "50"
"\Encom\Grid\Histogram\Bin 95" = "32"
"\Encom\Grid\Histogram\Bin 28" = "1423"
"\Encom\Grid\Histogram\Bin 74" = "45"
"\Encom\Grid\Histogram\Bin 11" = "33"
"\Encom\Grid\Histogram\Bin 33" = "1535"
"\Encom\Grid\Histogram\Bin 90" = "38"
"\Encom\Grid\Histogram\Bin 45" = "234"
"\Encom\Grid\Histogram\Bin 228" = "0"
"\Encom\Grid\Histogram\Bin 49" = "228"
"\Encom\Grid\Histogram\Bin 223" = "2"
"\Encom\Grid\Histogram\Bin 222" = "0"
"\Encom\Grid\Histogram\Bin 221" = "0"
"\Encom\Grid\Histogram\Bin 227" = "0"
"\Encom\Grid\Histogram\Bin 226" = "1"
"\Encom\Grid\Histogram\Bin 225" = "0"
"\Encom\Grid\Histogram\Bin 224" = "0"
"\Encom\Grid\Histogram\Bin 60" = "107"
"\Encom\Grid\Histogram\Bin 15" = "21612"
"\Encom\Grid\Histogram\Bin 180" = "0"
"\Encom\Grid\Histogram\Bin 89" = "31"
"\Encom\Grid\Histogram\Bin 163" = "5"
"\Encom\Grid\Histogram\Bin 149" = "19"
"\Encom\Grid\Histogram\Bin 58" = "125"
"\Encom\Grid\Histogram\Bin 160" = "10"
"\Encom\Grid\Histogram\Bin 236" = "0"
"\Encom\Grid\Histogram\Bin 165" = "7"
"\Encom\Grid\Histogram\Bin 164" = "3"
"\Encom\Grid\Histogram\Bin 140" = "34"
"\Encom\Grid\Histogram\Bin 30" = "1574"
"\Encom\Grid\Histogram\Bin 145" = "28"
"\Encom\Grid\Histogram\Bin 144" = "29"
"\Encom\Grid\Histogram\Bin 190" = "1"
"\Encom\Grid\Histogram\Bin 35" = "1009"
"\Encom\Grid\Histogram\Bin 73" = "50"
"\Encom\Grid\Histogram\Bin 37" = "725"
"\Encom\Grid\Histogram\Bin 14" = "6680"
"\Encom\Grid\Histogram\Bin 43" = "468"
"\Encom\Grid\Histogram\Bin 208" = "0"
"\Encom\Grid\Histogram\Bin 203" = "1"
"\Encom\Grid\Histogram\Bin 202" = "0"
"\Encom\Grid\Histogram\Bin 201" = "0"
"\Encom\Grid\Histogram\Bin 189" = "1"
"\Encom\Grid\Histogram\Bin 207" = "0"
"\Encom\Grid\Histogram\Bin 206" = "2"
"\Encom\Grid\Histogram\Bin 205" = "1"
"\Encom\Grid\Histogram\Bin 204" = "3"
"\Encom\Grid\Histogram\Bin 50" = "187"
"\Encom\Grid\Histogram\Bin 183" = "2"
"\Encom\Grid\Histogram\Bin 182" = "4"
"\Encom\Grid\Histogram\Bin 181" = "1"
"\Encom\Grid\Histogram\Bin 68" = "73"
"\Encom\Grid\Histogram\Bin 187" = "1"
"\Encom\Grid\Histogram\Bin 186" = "2"
"\Encom\Grid\Histogram\Bin 185" = "0"
"\Encom\Grid\Histogram\Bin 184" = "1"
"\Encom\Grid\Histogram\Bin 8" = "7"
"\Encom\Grid\Histogram\Bin 56" = "137"
"\Encom\Grid\Histogram\Bin 99" = "26"
"\Encom\Grid\Histogram\Bin 81" = "44"
"\Encom\Grid\Histogram\MaxValue" = "0.5710950494"
"\Encom\Grid\Histogram\Bin 80" = "34"
"\Encom\Grid\Histogram\Bin 158" = "6"
"\Encom\Grid\Histogram\Bin 26" = "1604"
"\Encom\Grid\Histogram\Bin 128" = "29"
"\Encom\Grid\Histogram\Bin 40" = "525"
"\Encom\Grid\Histogram\Bin 195" = "1"
"\Encom\Grid\Histogram\Bin 233" = "1"
"\Encom\Grid\Histogram\Bin 123" = "19"
"\Encom\Grid\Histogram\Bin 78" = "48"
"\Encom\Grid\Histogram\Bin 121" = "21"
"\Encom\Grid\Histogram\Bin 120" = "23"
"\Encom\Grid\Histogram\Bin 127" = "19"
"\Encom\Grid\Histogram\Bin 126" = "19"
"\Encom\Grid\Histogram\Bin 125" = "19"
"\Encom\Grid\Histogram\Bin 124" = "32"
"\Encom\Grid\Histogram\Bin 210" = "0"
"\Encom\Grid\Histogram\Bin 41" = "450"
"\Encom\Grid\Histogram\Bin 25" = "1769"
"\Encom\Grid\Histogram\Bin 93" = "43"
"\Encom\Grid\Histogram\Bin 169" = "6"
"\Encom\Grid\Histogram\Bin 168" = "4"
"\Encom\Grid\Histogram\Bin 23" = "2216"
"\Encom\Grid\Histogram\Bin 148" = "26"
"\Encom\Grid\Histogram\Bin 253" = "0"
"\Encom\Grid\Histogram\Bin 252" = "0"
"\Encom\Grid\Histogram\Bin 251" = "0"
"\Encom\Grid\Histogram\Bin 250" = "1"
"\Encom\Grid\Histogram\Bin 167" = "5"
"\Encom\Grid\Histogram\Bin 166" = "7"
"\Encom\Grid\Histogram\Bin 255" = "0"
"\Encom\Grid\Histogram\Bin 254" = "1"
"\Encom\Grid\Histogram\Bin 54" = "169"
"\Encom\Grid\Histogram\Bin 18" = "4516"
"\Encom\Grid\Histogram\Bin 20" = "3049"
"\Encom\Grid\Histogram\Bin 97" = "33"
"\Encom\Grid\Histogram\Bin 94" = "23"
"\Encom\Grid\Histogram\Bin 7" = "3"
"\Encom\Grid\Histogram\Bin 83" = "47"
"\Encom\Grid\Histogram\Bin 132" = "20"
"\Encom\Grid\Histogram\Bin 108" = "28"
"\Encom\Grid\Histogram\Bin 130" = "23"
"\Encom\Grid\Histogram\Bin 65" = "97"
"\Encom\Grid\Histogram\Bin 103" = "36"
"\Encom\Grid\Histogram\Bin 109" = "24"
"\Encom\Grid\Histogram\Bin 5" = "4"
"\Encom\Grid\Histogram\Bin 100" = "34"
"\Encom\Grid\Histogram\Bin 122" = "16"
"\Encom\Grid\Histogram\Bin 106" = "15"
"\Encom\Grid\Histogram\Bin 105" = "29"
"\Encom\Grid\Histogram\Bin 104" = "25"
"\Encom\Grid\Histogram\Bin 101" = "22"
"\Encom\Grid\Histogram\Bin 3" = "5"
"\Encom\Grid\Histogram\Bin 107" = "28"
"\Encom\Grid\Histogram\Bin 12" = "66"
"\Encom\Grid\Histogram\Bin 82" = "39"
"\Encom\Grid\Histogram\Bin 239" = "0"
"\Encom\Grid\Histogram\Bin 238" = "0"
"\Encom\Grid\Histogram\Bin 63" = "103"
"\Encom\Grid\Histogram\Bin 88" = "32"
"\Encom\Grid\Histogram\Bin 52" = "176"
"\Encom\Grid\Histogram\Bin 143" = "22"
"\Encom\Grid\Histogram\Bin 142" = "33"
"\Encom\Grid\Histogram\Bin 141" = "20"
"\Encom\Grid\Histogram\Bin 230" = "1"
"\Encom\Grid\Histogram\Bin 237" = "1"
"\Encom\Grid\Histogram\Bin 146" = "30"
"\Encom\Grid\Histogram\Bin 235" = "0"
"\Encom\Grid\Histogram\Bin 234" = "1"
"\Encom\Grid\Histogram\Bin 21" = "2535"
"\Encom\Grid\Histogram\Bin 4" = "0"
"\Encom\Grid\Histogram\Bin 16" = "12434"
"\Encom\Grid\Histogram\Bin 27" = "1425"
"\Encom\Grid\Histogram\Bin 39" = "478"
"\Encom\Grid\Histogram\Bin 244" = "0"
"\Encom\Grid\Histogram\Bin 229" = "1"
"\Encom\Grid\Histogram\Bin 59" = "125"
"\Encom\Grid\Histogram\Bin 129" = "25"
"\Encom\Grid\Histogram\Bin 2" = "2"
"\Encom\Grid\Histogram\Bin 71" = "54"
"\Encom\Grid\Histogram\Bin 220" = "2"
"\Encom\Grid\Histogram\Bin 1" = "3"
"\Encom\Grid\Histogram\Bin 31" = "1988"
"\Encom\Grid\Histogram\Bin 44" = "284"
"\Encom\Grid\Histogram\Bin 199" = "1"
"\Encom\Grid\Histogram\Bin 198" = "1"
"\Encom\Grid\Histogram\Bin 48" = "230"
"\Encom\Grid\Histogram\Bin 112" = "21"
"\Encom\Grid\Histogram\Bin 29" = "1396"
"\Encom\Grid\Histogram\Bin 191" = "2"
"\Encom\Grid\Histogram\Bin 46" = "239"
"\Encom\Grid\Histogram\Bin 197" = "3"
"\Encom\Grid\Histogram\Bin 66" = "87"
"\Encom\Grid\Histogram\SmallerCount" = "0"
"\Encom\Grid\Histogram\Bin 162" = "4"
"\Encom\Grid\Histogram\Bin 159" = "6"
"\Encom\Grid\Histogram\Bin 10" = "23"
"\Encom\Grid\Histogram\Bin 153" = "14"
"\Encom\Grid\Histogram\Bin 152" = "12"
"\Encom\Grid\Histogram\Bin 42" = "392"
"\Encom\Grid\Histogram\Bin 53" = "174"
"\Encom\Grid\Histogram\Bin 218" = "0"
"\Encom\Grid\Histogram\Bin 156" = "8"
"\Encom\Grid\Histogram\Bin 155" = "12"
"\Encom\Grid\Histogram\LargerCount" = "1"
"\Encom\Grid\Histogram\Bin 213" = "0"
"\Encom\Grid\Histogram\Bin 212" = "2"
"\Encom\Grid\Histogram\Bin 211" = "2"
"\Encom\Grid\Histogram\Bin 249" = "0"
"\Encom\Grid\Histogram\Bin 217" = "1"
"\Encom\Grid\Histogram\Bin 216" = "1"
"\Encom\Grid\Histogram\Bin 215" = "1"
"\Encom\Grid\Histogram\Bin 214" = "0"
"\Encom\Grid\Histogram\Bin 193" = "1"
"\Encom\Grid\Histogram\Bin 192" = "2"
"\Encom\Grid\Histogram\Bin 241" = "0"
"\Encom\Grid\Histogram\Bin 240" = "1"
"\Encom\Grid\Histogram\Bin 247" = "0"
"\Encom\Grid\Histogram\Bin 196" = "0"
"\Encom\Grid\Histogram\Bin 245" = "1"
"\Encom\Grid\Histogram\Bin 194" = "0"
"\Encom\Grid\Histogram\Bin 61" = "110"
"\Encom\Grid\Histogram\Bin 57" = "137"
"\Encom\Grid\Histogram\MinValue" = "-0.0291242301"
"\Encom\Grid\Histogram\Bin 0" = "1"
"\Encom\Grid\Histogram\Bin 13" = "934"
"\Encom\Grid\Histogram\Bin 38" = "533"
"\Encom\Grid\Histogram\Bin 200" = "1"
"\Encom\Grid\Histogram\Bin 119" = "22"
"\Encom\Grid\Histogram\Bin 36" = "807"
"\Encom\Grid\Histogram\Bin 232" = "1"
"\Encom\Grid\Histogram\Bin 231" = "0"
"\Encom\Grid\Histogram\Bin 72" = "58"
"\Encom\Grid\Histogram\Bin 139" = "34"
"\Encom\Grid\Histogram\Bin 138" = "26"
"\Encom\Grid\Display" = ""
"\Encom\Grid\Display\Type" = "3"
"\Encom\Grid\Display\Max Cell Value to Colour" = "0.15178295969963074"
"\Encom\Grid\Display\MaxCellValue" = "0.57109504940000"
"\Encom\Grid\Display\MinCellValue" = "-0.02912423010000"
"\Encom\Grid\Display\SunShadowDepth" = "50.0"
"\Encom\Grid\Display\LUT" = "pseudocolor"
"\Encom\Grid\Display\Min Cell Value to Colour" = "0.0073376866057515144"
"\Encom\Grid\Display\SunAzimuthDeg" = "45.0"
"\Encom\Grid\Display\SunElevation" = "85.0"
"\Encom\Grid\Display\SunColorSaturation" = "0.0"
"\Encom\Grid\Display\SunHighlight" = "0"
"\Encom\Grid\Display\SunShading" = "1"
"\Encom\Grid\Display\SunHighlightIntensity" = "40.0"
"\Encom\Grid\Display\SunHighlightSaturation" = "0.0"
"\Encom\Grid\Display\SunIntensitySaturation" = "100.0"
"\Encom\Grid\Display\SunHighlightAzimuth" = "315.0"
"\Encom\Grid\Display\SunHighlightElevation" = "60.0"
"\Encom\Grid\Display\Colouring" = ""
"\Encom\Grid\Display\Colouring\Ranges" = "16"
"\Encom\Grid\Display\Colouring\Range 0" = "0.00733768660575151"
"\Encom\Grid\Display\Colouring\Range 1" = "0.00428641338779297"
"\Encom\Grid\Display\Colouring\Range 2" = "0.00487256502792969"
"\Encom\Grid\Display\Colouring\Range 3" = "0.00545871666806641"
"\Encom\Grid\Display\Colouring\Range 4" = "0.00604486830820313"
"\Encom\Grid\Display\Colouring\Range 5" = "0.00721717158847656"
"\Encom\Grid\Display\Colouring\Range 6" = "0.00780332322861328"
"\Encom\Grid\Display\Colouring\Range 7" = "0.00956177814902344"
"\Encom\Grid\Display\Colouring\Range 8" = "0.0113202330694336"
"\Encom\Grid\Display\Colouring\Range 9" = "0.0148371429102539"
"\Encom\Grid\Display\Colouring\Range 10" = "0.0189402043912109"
"\Encom\Grid\Display\Colouring\Range 11" = "0.0248017207925781"
"\Encom\Grid\Display\Colouring\Range 12" = "0.0330078437544922"
"\Encom\Grid\Display\Colouring\Range 13" = "0.0423862699966797"
"\Encom\Grid\Display\Colouring\Range 14" = "0.0511785445987305"
"\Encom\Grid\Display\Colouring\Range 15" = "0.0781415200450195"
"\Encom\Grid\Display\Colouring\Range 16" = "0.5710950494"
end_metadata
