!table
!version 500
!charset WindowsLatin1

Definition Table
  File "ch20.ers"
  Type "RASTER"
  (357742.5,5408227.5) (0,0) Label "Pt 1",
  (361162.5,5408227.5) (228,0) Label "Pt 2",
  (361162.5,5401207.5) (228,468) Label "Pt 3",
  (357742.5,5401207.5) (0,468) Label "Pt 4"
  CoordSys Earth Projection 8, 116, "m", 147, 0, 0.9996, 500000, 10000000
  Units "m"
  RasterStyle 6 1
begin_metadata
            
"\ISREADONLY" = "FALSE"
"\MAPINFO" = ""
"\MAPINFO\TABLEID" = "46A4E194-3E22-4A24-9F8E-897FE7056514"
            
"\Encom" = ""
"\Encom\Grid" = ""
"\Encom\Grid\Display" = ""
"\IsReadOnly" = "FALSE"
"\Encom\Grid\Display\MinCellValue" = "-0.00728991770000"
"\Encom\Grid\Display\MaxCellValue" = "0.13190887870000"
"\Encom\Grid\Display\Min Cell Value to Colour" = "-0.00728991770000"
"\Encom\Grid\Display\Max Cell Value to Colour" = "0.13190887870000"

"\Encom\Grid\Display\Type" = "5"
"\Encom\Grid\Display\LUT" = "PSEUDOCOLOR"
"\Encom\Grid\Display\Colouring\InterpolateColor" = "1"

"\Encom\Grid\Display\Colouring\Ranges" = "16"
"\Encom\Grid\Display\Colouring\Range 1" = "4.906542% -0.000460 RGB(0,0,255)"
"\Encom\Grid\Display\Colouring\Range 2" = "6.410628% 0.001634 RGB(0,46,255)"
"\Encom\Grid\Display\Colouring\Range 3" = "7.914722% 0.003727 RGB(0,94,255)"
"\Encom\Grid\Display\Colouring\Range 4" = "9.418808% 0.005821 RGB(0,142,255)"
"\Encom\Grid\Display\Colouring\Range 5" = "10.922895% 0.007915 RGB(0,190,255)"
"\Encom\Grid\Display\Colouring\Range 6" = "12.426988% 0.010008 RGB(0,238,255)"
"\Encom\Grid\Display\Colouring\Range 7" = "13.931096% 0.012102 RGB(30,255,224)"
"\Encom\Grid\Display\Colouring\Range 8" = "15.435132% 0.014196 RGB(78,255,176)"
"\Encom\Grid\Display\Colouring\Range 9" = "16.939240% 0.016289 RGB(126,255,128)"
"\Encom\Grid\Display\Colouring\Range 10" = "18.443347% 0.018383 RGB(174,255,80)"
"\Encom\Grid\Display\Colouring\Range 11" = "19.947455% 0.020477 RGB(222,255,32)"
"\Encom\Grid\Display\Colouring\Range 12" = "21.451491% 0.022570 RGB(255,240,0)"
"\Encom\Grid\Display\Colouring\Range 13" = "22.955599% 0.024664 RGB(255,192,0)"
"\Encom\Grid\Display\Colouring\Range 14" = "24.459707% 0.026758 RGB(255,144,0)"
"\Encom\Grid\Display\Colouring\Range 15" = "25.963815% 0.028851 RGB(255,96,0)"
"\Encom\Grid\Display\Colouring\Range 16" = "27.467851% 0.030945 RGB(255,48,0)"
"\Encom\Grid\Display\SunShading" = "1"
"\Encom\Grid\Display\SunAzimuthDeg" = "45"
"\Encom\Grid\Display\SunElevation" = "85"
"\Encom\Grid\Display\SunColorSaturation" = "0.0"
"\Encom\Grid\Display\SunIntensitySaturation" = "100.0"
"\Encom\Grid\Display\SunShadowDepth" = "50"

"\Encom\Grid\Display\SunHighlight" = "0"
"\Encom\Grid\Display\SunHighlightAzimuth" = "315"
"\Encom\Grid\Display\SunHighlightElevation" = "60"
"\Encom\Grid\Display\SunHighlightSaturation" = "0.0"
"\Encom\Grid\Display\SunHighlightIntensity" = "40.0"

end_metadata
"\Encom\Grid\Histogram\Bin 163" = "2"
"\Encom\Grid\Histogram\Bin 149" = "0"
"\Encom\Grid\Histogram\Bin 58" = "116"
"\Encom\Grid\Histogram\Bin 237" = "1"
"\Encom\Grid\Histogram\Bin 165" = "1"
"\Encom\Grid\Histogram\Bin 142" = "1"
"\Encom\Grid\Histogram\Bin 41" = "367"
"\Encom\Grid\Histogram\Bin 140" = "2"
"\Encom\Grid\Histogram\Bin 30" = "749"
"\Encom\Grid\Histogram\Bin 146" = "3"
"\Encom\Grid\Histogram\Bin 145" = "1"
"\Encom\Grid\Histogram\Bin 144" = "1"
"\Encom\Grid\Histogram\Bin 73" = "44"
"\Encom\Grid\Histogram\Bin 37" = "682"
"\Encom\Grid\Histogram\Bin 52" = "147"
"\Encom\Grid\Histogram\Bin 208" = "0"
"\Encom\Grid\Histogram\Bin 203" = "0"
"\Encom\Grid\Histogram\Bin 202" = "0"
"\Encom\Grid\Histogram\Bin 201" = "1"
"\Encom\Grid\Histogram\Bin 189" = "3"
"\Encom\Grid\Histogram\Bin 207" = "2"
"\Encom\Grid\Histogram\Bin 206" = "1"
"\Encom\Grid\Histogram\Bin 205" = "1"
"\Encom\Grid\Histogram\Bin 204" = "1"
"\Encom\Grid\Histogram\Bin 183" = "2"
"\Encom\Grid\Histogram\Bin 182" = "1"
"\Encom\Grid\Histogram\Bin 181" = "1"
"\Encom\Grid\Histogram\Bin 22" = "2270"
"\Encom\Grid\Histogram\Bin 187" = "1"
"\Encom\Grid\Histogram\Bin 185" = "0"
"\Encom\Grid\Histogram\Bin 184" = "0"
"\Encom\Grid\Histogram\Bin 8" = "24"
"\Encom\Grid\Histogram\Bin 56" = "134"
"\Encom\Grid\Histogram\Bin 31" = "940"
"\Encom\Grid\Histogram\Bin 99" = "33"
"\Encom\Grid\Histogram\Bin 81" = "34"
"\Encom\Grid\Histogram\MaxValue" = "0.1319088787"
"\Encom\Grid\Histogram\Bin 80" = "38"
"\Encom\Grid\Histogram\Bin 239" = "0"
"\Encom\Grid\Histogram\Bin 35" = "1149"
"\Encom\Grid\Histogram\Bin 250" = "0"
"\Encom\Grid\Histogram\Bin 254" = "0"
"\Encom\Grid\Histogram\Bin 123" = "2"
"\Encom\Grid\Histogram\Bin 69" = "42"
"\Encom\Grid\Histogram\Bin 121" = "4"
"\Encom\Grid\Histogram\Bin 120" = "5"
"\Encom\Grid\Histogram\Bin 127" = "2"
"\Encom\Grid\Histogram\Bin 126" = "3"
"\Encom\Grid\Histogram\Bin 125" = "2"
"\Encom\Grid\Histogram\Bin 124" = "3"
"\Encom\Grid\Histogram\Bin 50" = "143"
"\Encom\Grid\Histogram\Bin 25" = "1486"
"\Encom\Grid\Histogram\Bin 93" = "31"
"\Encom\Grid\Histogram\Bin 169" = "2"
"\Encom\Grid\Histogram\Bin 168" = "1"
"\Encom\Grid\Histogram\Bin 23" = "1989"
"\Encom\Grid\Histogram\Bin 253" = "0"
"\Encom\Grid\Histogram\Bin 252" = "0"
"\Encom\Grid\Histogram\Bin 251" = "2"
"\Encom\Grid\Histogram\Bin 160" = "0"
"\Encom\Grid\Histogram\Bin 167" = "1"
"\Encom\Grid\Histogram\Bin 166" = "1"
"\Encom\Grid\Histogram\Bin 255" = "1"
"\Encom\Grid\Histogram\Bin 164" = "0"
"\Encom\Grid\Histogram\Bin 63" = "83"
"\Encom\Grid\Histogram\Bin 18" = "4436"
"\Encom\Grid\Histogram\Bin 39" = "634"
"\Encom\Grid\Histogram\Bin 97" = "32"
"\Encom\Grid\Histogram\Bin 7" = "18"
"\Encom\Grid\Histogram\Bin 33" = "1297"
"\Encom\Grid\Histogram\Bin 108" = "9"
"\Encom\Grid\Histogram\Bin 2" = "4"
"\Encom\Grid\Histogram\Bin 109" = "12"
"\Encom\Grid\Histogram\Bin 101" = "32"
"\Encom\Grid\Histogram\Bin 100" = "28"
"\Encom\Grid\Histogram\Bin 107" = "15"
"\Encom\Grid\Histogram\Bin 106" = "23"
"\Encom\Grid\Histogram\Bin 105" = "20"
"\Encom\Grid\Histogram\Bin 104" = "11"
"\Encom\Grid\Histogram\Bin 12" = "349"
"\Encom\Grid\Histogram\Bin 82" = "27"
"\Encom\Grid\Histogram\Bin 54" = "117"
"\Encom\Grid\Histogram\BinCount" = "256"
"\Encom\Grid\Histogram\Bin 238" = "1"
"\Encom\Grid\Histogram\Bin 143" = "2"
"\Encom\Grid\Histogram\Bin 232" = "0"
"\Encom\Grid\Histogram\Bin 141" = "3"
"\Encom\Grid\Histogram\Bin 230" = "1"
"\Encom\Grid\Histogram\Bin 77" = "40"
"\Encom\Grid\Histogram\Bin 236" = "0"
"\Encom\Grid\Histogram\Bin 235" = "0"
"\Encom\Grid\Histogram\Bin 234" = "1"
"\Encom\Grid\Histogram\Bin 4" = "8"
"\Encom\Grid\Histogram\Bin 16" = "15624"
"\Encom\Grid\Histogram\Bin 27" = "1110"
"\Encom\Grid\Histogram\Bin 95" = "33"
"\Encom\Grid\Histogram\Bin 59" = "110"
"\Encom\Grid\Histogram\Bin 129" = "2"
"\Encom\Grid\Histogram\MinValue" = "-0.0072899177"
"\Encom\Grid\Histogram\Bin 71" = "43"
"\Encom\Grid\Histogram\Bin 1" = "3"
"\Encom\Grid\Histogram\Bin 40" = "603"
"\Encom\Grid\Histogram\Bin 44" = "254"
"\Encom\Grid\Histogram\Bin 199" = "2"
"\Encom\Grid\Histogram\Bin 198" = "1"
"\Encom\Grid\Histogram\Bin 48" = "185"
"\Encom\Grid\Histogram\Bin 74" = "41"
"\Encom\Grid\Histogram\Bin 29" = "731"
"\Encom\Grid\Histogram\Bin 190" = "1"
"\Encom\Grid\Histogram\Bin 66" = "61"
"\Encom\Grid\Histogram\SmallerCount" = "0"
"\Encom\Grid\Histogram\Bin 159" = "4"
"\Encom\Grid\Histogram\Bin 10" = "55"
"\Encom\Grid\Histogram\Bin 42" = "410"
"\Encom\Grid\Histogram\Bin 53" = "123"
"\Encom\Grid\Histogram\Bin 218" = "0"
"\Encom\Grid\Histogram\Bin 155" = "1"
"\Encom\Grid\Histogram\LargerCount" = "1"
"\Encom\Grid\Histogram\Bin 213" = "0"
"\Encom\Grid\Histogram\Bin 87" = "29"
"\Encom\Grid\Histogram\Bin 211" = "0"
"\Encom\Grid\Histogram\Bin 210" = "2"
"\Encom\Grid\Histogram\Bin 217" = "0"
"\Encom\Grid\Histogram\Bin 216" = "0"
"\Encom\Grid\Histogram\Bin 215" = "2"
"\Encom\Grid\Histogram\Bin 214" = "1"
"\Encom\Grid\Histogram\Bin 193" = "2"
"\Encom\Grid\Histogram\Bin 192" = "1"
"\Encom\Grid\Histogram\Bin 191" = "1"
"\Encom\Grid\Histogram\Bin 14" = "7077"
"\Encom\Grid\Histogram\Bin 197" = "0"
"\Encom\Grid\Histogram\Bin 196" = "0"
"\Encom\Grid\Histogram\Bin 195" = "0"
"\Encom\Grid\Histogram\Bin 194" = "2"
"\Encom\Grid\Histogram\Bin 61" = "107"
"\Encom\Grid\Histogram\Bin 57" = "102"
"\Encom\Grid\Histogram\Bin 0" = "2"
"\Encom\Grid\Histogram\Bin 13" = "756"
"\Encom\Grid\Histogram\Bin 46" = "212"
"\Encom\Grid\Histogram\Bin 38" = "531"
"\Encom\Grid\Histogram\Bin 36" = "866"
"\Encom\Grid\Histogram\Bin 231" = "0"
"\Encom\Grid\Histogram\Bin 72" = "51"
"\Encom\Grid\Histogram\Bin 139" = "1"
"\Encom\Grid\Histogram\Bin 138" = "2"
"\Encom\Grid\Histogram\Bin 5" = "7"
"\Encom\Grid\Histogram\Bin 6" = "10"
"\Encom\Grid\Histogram\Bin 17" = "5908"
"\Encom\Grid\Histogram\Bin 19" = "3383"
"\Encom\Grid\Histogram\Bin 24" = "1548"
"\Encom\Grid\Histogram\Bin 34" = "1321"
"\Encom\Grid\Histogram\Bin 47" = "195"
"\Encom\Grid\Histogram\Bin 51" = "152"
"\Encom\Grid\Histogram\Bin 55" = "128"
"\Encom\Grid\Histogram\Bin 62" = "98"
"\Encom\Grid\Histogram\Bin 67" = "75"
"\Encom\Grid\Histogram\Bin 70" = "62"
"\Encom\Grid\Histogram\Bin 84" = "37"
"\Encom\Grid\Histogram\Bin 85" = "34"
"\Encom\Grid\Histogram\Bin 86" = "34"
"\Encom\Grid\Histogram\Bin 91" = "32"
"\Encom\Grid\Histogram\Bin 92" = "36"
"\Encom\Grid\Histogram\Bin 98" = "29"
"\Encom\Grid\Histogram\Bin 102" = "24"
"\Encom\Grid\Histogram\Bin 103" = "26"
"\Encom\Grid\Histogram\Bin 110" = "5"
"\Encom\Grid\Histogram\Bin 111" = "8"
"\Encom\Grid\Histogram\Bin 112" = "2"
"\Encom\Grid\Histogram\Bin 113" = "2"
"\Encom\Grid\Histogram\Bin 114" = "3"
"\Encom\Grid\Histogram\Bin 115" = "2"
"\Encom\Grid\Histogram\Bin 116" = "1"
"\Encom\Grid\Histogram\Bin 117" = "3"
"\Encom\Grid\Histogram\Bin 118" = "1"
"\Encom\Grid\Histogram\Bin 131" = "1"
"\Encom\Grid\Histogram\Bin 132" = "2"
"\Encom\Grid\Histogram\Bin 133" = "5"
"\Encom\Grid\Histogram\Bin 134" = "2"
"\Encom\Grid\Histogram\Bin 135" = "1"
"\Encom\Grid\Histogram\Bin 136" = "0"
"\Encom\Grid\Histogram\Bin 137" = "4"
"\Encom\Grid\Histogram\Bin 147" = "6"
"\Encom\Grid\Histogram\Bin 150" = "1"
"\Encom\Grid\Histogram\Bin 151" = "0"
"\Encom\Grid\Histogram\Bin 154" = "4"
"\Encom\Grid\Histogram\Bin 157" = "2"
"\Encom\Grid\Histogram\Bin 161" = "2"
"\Encom\Grid\Histogram\Bin 170" = "3"
"\Encom\Grid\Histogram\Bin 171" = "4"
"\Encom\Grid\Histogram\Bin 172" = "1"
"\Encom\Grid\Histogram\Bin 173" = "0"
"\Encom\Grid\Histogram\Bin 174" = "1"
"\Encom\Grid\Histogram\Bin 175" = "1"
"\Encom\Grid\Histogram\Bin 176" = "0"
"\Encom\Grid\Histogram\Bin 177" = "2"
"\Encom\Grid\Histogram\Bin 178" = "0"
"\Encom\Grid\Histogram\Bin 179" = "2"
"\Encom\Grid\Histogram\Bin 188" = "1"
"\Encom\Grid\Histogram\Bin 209" = "0"
"\Encom\Grid\Histogram\Bin 242" = "2"
"\Encom\Grid\Histogram\Bin 243" = "1"
"\Encom\Grid\Histogram\Bin 246" = "1"
"\Encom\Grid\Histogram\Bin 248" = "0"
"\Encom\Grid\Display" = ""
"\Encom\Grid\Display\SunIntensitySaturation" = "100.0"
"\Encom\Grid\Display\LUT" = "pseudocolor"
"\Encom\Grid\Display\Max Cell Value to Colour" = "0.024907929822802544"
"\Encom\Grid\Display\MaxCellValue" = "0.13190887870000"
"\Encom\Grid\Display\SunHighlightSaturation" = "0.0"
"\Encom\Grid\Display\MinCellValue" = "-0.00728991770000"
"\Encom\Grid\Display\Min Cell Value to Colour" = "0.0024670064449310303"
"\Encom\Grid\Display\SunAzimuthDeg" = "45.0"
"\Encom\Grid\Display\SunElevation" = "85.0"
"\Encom\Grid\Display\SunColorSaturation" = "0.0"
"\Encom\Grid\Display\SunHighlight" = "0"
"\Encom\Grid\Display\SunShading" = "1"
"\Encom\Grid\Display\SunHighlightIntensity" = "40.0"
"\Encom\Grid\Display\SunShadowDepth" = "50.0"
"\Encom\Grid\Display\Type" = "1"
"\Encom\Grid\Display\SunHighlightAzimuth" = "315.0"
"\Encom\Grid\Display\SunHighlightElevation" = "60.0"
end_metadata
