!table
!version 300
!charset WindowsLatin1

Definition Table
  File "sgc_logo.jpg"
  Type "RASTER"
  (0,1) (0,0) Label "Pt 1",
  (1,1) (1,0) Label "Pt 2",
  (0,0) (0,1) Label "Pt 3"
  CoordSys NonEarth Units "ft"
  Units "ft"
begin_metadata
"\IsReadOnly" = "FALSE"
"\MapInfo" = ""
"\MapInfo\TableID" = "dcf84f88-475d-423c-a568-46303ae81fd0"
end_metadata
