!table
!version 300
!charset WindowsLatin1

Definition Table
  File "vtem-a cdiconductivityshellonch21vtem.jpg"
  Type "RASTER"
  (358000,5406500) (203,62) Label "Pt 1",
  (359500,5406500) (814,62) Label "Pt 2",
  (359500,5405500) (813,467) Label "Pt 3",
  (358000,5405500) (204,469) Label "Pt 4"
  CoordSys Earth Projection 8, 116, "m", 147, 0, 0.9996, 500000, 10000000
  Units "m"
begin_metadata
"\IsReadOnly" = "FALSE"
"\MapInfo" = ""
"\MapInfo\TableID" = "3b8dc428-3ab0-479a-9a19-9686a9d0f346"
end_metadata
