!table
!version 300
!charset WindowsLatin1

Definition Table
  File "mt stewart plan date 472 arot9p5cw.jpg"
  Type "RASTER"
  (359098.5,5402246.5) (1361,1592) Label "Pt 1",
  (359242,5402246.5) (3702,1676) Label "Pt 2",
  (359050,5401940) (470,6593) Label "Pt 3"
  CoordSys Earth Projection 8, 116, "m", 147, 0, 0.9996, 500000, 10000000
  Units "m"
begin_metadata
"\IsReadOnly" = "FALSE"
"\MapInfo" = ""
"\MapInfo\TableID" = "f730d364-beb8-4cd9-bc9c-9d53ac7f5957"
end_metadata
