!table
!version 300
!charset WindowsLatin1

Definition Table
  File "mt stewart to magnet geol gen & mines 1965 2535.png"
  Type "RASTER"
  (357000,5403650) (83,1190) Label "Pt 1",
  (361080,5404590) (1092,946) Label "Pt 2",
  (361510,5400420) (1206,1979) Label "Pt 3",
  (357670,5400490) (254,1975) Label "Pt 4"
  CoordSys Earth Projection 8, 116, "m", 147, 0, 0.9996, 500000, 10000000
  Units "m"
begin_metadata
"\IsReadOnly" = "FALSE"
"\MapInfo" = ""
"\MapInfo\TableID" = "c91b2b06-1f15-473b-bf80-3823a8682d69"
end_metadata
