!table
!version 300
!charset WindowsLatin1

Definition Table
  File "mt stewart long tunnel mine plan section 1906 190_002_rot12cw.png"
  Type "RASTER"
  (359004,5402296.5499999998) (1354,3376) Label "Pt 1",
  (359181.79999999999,5402296.5499999998) (5469,2488) Label "Pt 2",
  (358990,5401990) (2342,11018) Label "Pt 3"
  CoordSys Earth Projection 8, 116, "m", 147, 0, 0.9996, 500000, 10000000
  Units "m"
   RasterStyle 4 1
   RasterStyle 7 16777215
begin_metadata
"\IsReadOnly" = "FALSE"
"\MapInfo" = ""
"\MapInfo\TableID" = "f958af3f-4199-48ad-bc46-d0cf603628ba"
end_metadata
