!table
!version 300
!charset WindowsLatin1

Definition Table
  File "gsb33_202 claxtons find r13p5cw.png"
  Type "RASTER"
  (359673.0,5405993.1) (63,205) Label "Pt 1",
  (359753.6,5406075) (293,14) Label "Pt 2",
  (359846,5405982.7) (536,248) Label "Pt 3"
  CoordSys Earth Projection 8, 116, "m", 147, 0, 0.9996, 500000, 10000000
  Units "m"
begin_metadata
"\IsReadOnly" = "FALSE"
"\MapInfo" = ""
"\MapInfo\TableID" = "d449c53c-f43e-40e1-8e3c-b324066d7ba0"
end_metadata
