!table
!version 300
!charset WindowsLatin1

Definition Table
  File "gsb33_202 mt wright mine r13p5cw.png"
  Type "RASTER"
  (359350.5,5406712) (664,16) Label "Pt 1",
  (359481.59999999998,5406448.2999999998) (1004,620) Label "Pt 2",
  (359124.59999999998,5406370.4000000004) (19,831) Label "Pt 3"
  CoordSys Earth Projection 8, 116, "m", 147, 0, 0.9996, 500000, 10000000
  Units "m"
begin_metadata
"\IsReadOnly" = "FALSE"
"\MapInfo" = ""
"\MapInfo\TableID" = "dc99585f-6ee7-4681-9347-c8b58a6728c9"
end_metadata
