!table
!version 300
!charset WindowsLatin1

Definition Table
  File "gsb33_202_old_jasper mine arot4p7cw.jpg"
  Type "RASTER"
  (359250.5,5406073) (38,277) Label "Pt 1",
  (359350,5406066.5) (420,304) Label "Pt 2",
  (359342,5405934) (391,813) Label "Pt 3",
  (359256,5405924) (59,853) Label "Pt 4"
  CoordSys Earth Projection 8, 116, "m", 147, 0, 0.9996, 500000, 10000000
  Units "m"
begin_metadata
"\IsReadOnly" = "FALSE"
"\MapInfo" = ""
"\MapInfo\TableID" = "b5bfc548-eeeb-4712-b2f2-4d98f700d577"
end_metadata
