!table
!version 300
!charset WindowsLatin1

Definition Table
  File "mt stewart topo 89-3054-151.jpg"
  Type "RASTER"
  (357113,5406184) (4384,266) Label "Pt 1",
  (362112,5406184) (10293,254) Label "Pt 2",
  (362112,5396184) (10319,12129) Label "Pt 3",
  (357113,5396184) (4409,12149) Label "Pt 4"
  CoordSys Earth Projection 8, 116, "m", 147, 0, 0.9996, 500000, 10000000
  Units "m"
begin_metadata
"\IsReadOnly" = "FALSE"
"\MapInfo" = ""
"\MapInfo\TableID" = "44e053e5-e6de-4537-9e55-6c72bb115851"
end_metadata
