!table
!version 300
!charset WindowsLatin1

Definition Table
  File "gsb33_202 old jasper mine 6p5cw.png"
  Type "RASTER"
  (359169.89000000001,5406200) (0,0) Label "Pt 1",
  (359476.34000000003,5406200) (1046,0) Label "Pt 2",
  (359169.89000000001,5405818.21) (0,1270) Label "Pt 3",
  (359476.34000000003,5405818.21) (1046,1270) Label "Pt 4"
  CoordSys Earth Projection 8, 116, "m", 147, 0, 0.9996, 500000, 10000000
  Units "m"
  RasterStyle 4 1
  RasterStyle 7 16777215
begin_metadata
"\IsReadOnly" = "FALSE"
"\MapInfo" = ""
"\MapInfo\TableID" = "0ce850e2-2d8d-4933-84ed-762e145e398d"
end_metadata
